BEGIN:VCALENDAR
VERSION:2.0
PRODID:-//wp-events-plugin.com//7.2.3.1//EN
TZID:Europe/Berlin
X-WR-TIMEZONE:Europe/Berlin
BEGIN:VEVENT
UID:809@online-kongresse.info
DTSTART;TZID=Europe/Berlin;VALUE=DATE:20211126
DTEND;TZID=Europe/Berlin;VALUE=DATE:20211206
DTSTAMP:20211117T133757Z
URL:https://online-kongresse.info/events/online-festival-der-selbstheilung
 /
SUMMARY:Online Festival der Selbstheilung
DESCRIPTION:Online Festival der Selbstheilung\n&gt\;&gt\; Zur kostenlosen A
 nmeldung (KLICK)&lt\;&lt\;\nDas kostenlose Online Festival der Selbstheil
 ung  ist genau das Richtige für Dich\, wenn du...\n\n 	erkennen willst\,
  warum Gesundheit viel mehr ist als die Abwesenheit von Krankheit -\n 	ein
 e praktische\, verständliche und motivierende Einführung in das Phänome
 n der Selbstheilung erfahren möchtest\n 	erkennen willst\, dass jeder üb
 er Selbstheilungskompetenz verfügt\, diese stärken und einsetzen kann\, 
 unabhängig vom aktuellen Gesundheitszustand und dem Alter\n 	verstehen m
 öchtest\, dass viele Krankheiten mit einer Unterdrückung der Selbstheilu
 ngskräfte einhergehen – mit Selbstsabotage\n 	eine Reihe von Methoden k
 ennenlernen möchtest\, welche – jede für sich – wirkungsvoll und eff
 ektiv zur inneren Heilung führen\n\nDie Themen des Online Festival der Se
 lbstheilung\nZusammenhänge erkennen - es geht nicht nur um die Schilddrü
 se\, es geht um:\n\n 	Was ist Gesundheit? Schatzsuche statt Fehlerfahndung
  Innere Weisheit: Der heilsame Dialog mit Deinem Körper\n 	Selbstheilung 
 im Alltag: Die Kunst\, sich im Leben wohl zu fühlen\n 	Magie &amp\; Selbs
 theilung: Hilfe aus der geistigen Welt\n 	Kopfsache: Mentale Ressourcen in
  Lebensmut verwandeln\n 	Spezielles: Verborgene Schätze zur Aktivierung d
 er Selbstheilungskraft\n 	Selbstregulation: Wie lebe ich ein gesundes Lebe
 n?\n 	Gesundheitsstrategien: So funktioniert Selbstheilung\n 	Natürliche 
 Heilkräfte: Leben im Einklang mit der Natur\n\nDiese Experten sprechen be
 im Online Festival der Selbstheilung 2021\n\n\n\nAndreas Goldemann\nUwe Al
 brecht\nFranz Ruppert\nReza Hojati\n\n\nBritta C. Lambert\nJulian Freiburg
 er\nErich Meidert\nMichaela Doell\n\n\nMaria Sanchez\nJohannes David Kette
 lhodt\nKurt Tepperwein\nLinda Giese\n\n\nRainer Franke\nPetra Feldbinder\n
 Oliver Range\nDaniel Otmar\n\n\nTom Peter Rietdorf\nChristoph Henninger\nW
 olfgang Künzel\nManuela Starkmann\n\n\nGottfried Sumser\nNina Herzberg\nS
 abrina Fox\nTala Mohajeri\,\n\n\nChristine Volm\nBruno Weihsbrodt\nHelga K
 och\nManfred Mohr\n\n\nTina Stümpfig\nSteffen Lohrer\nEmanuel Erk\nGeorg 
 Huber\n\n\nAlexandra Kleeberg\nJacqueline Le Saunier\nMarkus Breitenberger
 \n\n\n\nAnja Zawadzki\nOliver Tissot\n\n\n\n\n\nModerator des kostenlosen 
 Online Festival der Selbstheilung:\n\n\n\n\n\nDr. Ulrich Selz - Der Schirm
 herr\nDr. Ulrich Selz hat seit jeher eine Leidenschaft für die Medizin un
 d alternative Methoden. Speziell die Ursachenforschung hat es ihm angetan!
  Er sagt selbst: “Ich brauche keine Krimis – die Realität ist spannen
 d genug”.\n\nMit der eigenen Praxis in Ingolstadt ist Dr. Ulrich Selz se
 it Jahrzehnten Vorreiter im Bereich der umfassenden Symptom-Analyse und Be
 handlung. Er war selbst mehrere Jahre an verschiedenen Kliniken tätig und
  ist heute u.a. Fortbildungsreferent für Ärzte und Heilpraktiker.\n\nUns
 er Online Wissens-Event bereichert er mit spannenden\, interessanten Sonde
 r-Interviews (z.B. Live auf Social Media) und seiner praktischen Kompetenz
 .\nIm Jahr 2017 veranstalteten wir aus gesundheitlichem Eigeninteresse her
 aus unser erstes Online-Event zum Thema "Hautgesundheit“ (Online Haut-Ko
 ngress). Der Ausgangspunkt dafür war die Hautgeschichte eines unserer Gr
 ünder (Philipp Domsch litt lange unter schwerer Akne). Als sich damals fa
 st 10.000 Teilnehmer registrierten und begeistert die Interviews verfolgte
 n\, wurde uns folgendes bewusst: Es gibt auf der einen Seite viele Mensche
 n\, die gesundheitliche Herausforderungen haben\, zu denen sie Antworten s
 uchen. Und das obwohl es auf der anderen Seite viele tolle\, renommierte E
 xperten mit langjährigen Erfahrungen gibt\, welche diese Fragen ohne Prob
 leme beantworten könnten.\nAus diesem Grund entschieden wir uns dazu\, un
 ter dem Namen “Podiom” weitere Events im Bereich Gesundheit zu veranst
 alten. Interessierte können kostenlos teilnehmen und sollen Antworten auf
  ihre größten Fragen erhalten. Es werden über zehn Tage täglich 2 - 4 
 Interviews veröffentlicht. Zweck der Interviews ist es\, Klarheit\, Trans
 parenz und ggf. erste Schritte zur praktischen Umsetzung zu geben. Mittler
 weile sind wir ein stetig wachsendes Team\, haben über 25 Events und 900 
 Experten-Interviews produziert und konnten bereits mehr 130.000 Teilnehmer
  in unseren Events begeistern.\n\n\n\n\n\n\n\n&gt\;&gt\; Zum  Online-Kong
 ress (KLICK)&lt\;&lt\;\n\nEntdecke in diesem Online Festival verschiedene 
 Ansätze zahlreicher TOP-Experten\, die ihre besten Tipps und Tricks zur E
 ntfaltung der Selbstheilungskräfte geben!
ATTACH;FMTTYPE=image/jpeg:https://online-kongresse.info/wp-content/uploads
 /2021/03/Online-Festival-der-Selbstheilung-Header-1.jpg
CATEGORIES:Gesundheit &amp; Fitness
LOCATION:https://www.selbstheilungs-kongress.de/#aff=onlinekongresse&partne
 r=onlinekongresse&cam=Seite
END:VEVENT
BEGIN:VTIMEZONE
TZID:Europe/Berlin
X-LIC-LOCATION:Europe/Berlin
BEGIN:STANDARD
DTSTART:20211031T020000
TZOFFSETFROM:+0200
TZOFFSETTO:+0100
TZNAME:CET
END:STANDARD
END:VTIMEZONE
END:VCALENDAR