BEGIN:VCALENDAR
VERSION:2.0
PRODID:-//wp-events-plugin.com//7.2.3.1//EN
TZID:Europe/Berlin
X-WR-TIMEZONE:Europe/Berlin
BEGIN:VEVENT
UID:810@online-kongresse.info
DTSTART;TZID=Europe/Berlin;VALUE=DATE:20240112
DTEND;TZID=Europe/Berlin;VALUE=DATE:20240122
DTSTAMP:20231215T161500Z
URL:https://online-kongresse.info/events/mikronaehrstoff-und-orthomolekula
 rmedizin-online-kongress/
SUMMARY:Mikronährstoff und Orthomolekularmedizin Online-Kongress
DESCRIPTION:Mikronährstoff und Orthomolekularmedizin Online-Kongress\n&gt\
 ;&gt\; Zur kostenlosen Anmeldung (KLICK)&lt\;&lt\;\nDer Mikronährstoff un
 d Orthomolekularmedizin Online-Kongress ist genau das Richtige für Dich\
 , wenn du...\n\n 	erfahren möchtest\, wie Medikamente und die Antibabypil
 le Nährstoffmängel verursachen können\;\n 	wissen willst\, was du bei d
 er Interpretation von Laborwerten beachten musst und wo du die richtigen R
 eferenzwerte findest\;\n 	erfahren willst\, wie Entgiftungs- und Stoffwech
 selstörungen zu Nährstoffmängeln führen und wie du die Mängel behebst
 \;\n 	wissen möchtest\, welche Krankheiten und Beschwerden durch Näh
 rstoffmängel entstehen können.\n\nDie Themen des Mikronährstoff und Ort
 homolekularmedizin Online-Kongress\n\n 	Die häufigsten Ursachen von Nä
 hrstoffmängeln\, wie du diese vermeidest und somit verhindern kannst.\n 	
 Wie Mikronährstoffe die Behandlung von Erkrankungen unterstützen könn
 en.\n 	Welche die wichtigsten Vitamine\, Mineralien und Nährstoffe sind
 . Wie du deinen Bedarf an diesen Nährstoffen deckst und worauf du bei der
  Einnahme von Nahrungsergänzungsmitteln achten solltest.\n 	Welches die 
 häufigsten Nährstoffmängel sind und wie du sie vermeidest.\n\nDiese Ex
 perten sprechen beim Mikronährstoff und Orthomolekularmedizin Online-Kong
 ress\n\n\n\nDr. med. Volker Schmiedel\nDr. Sabine Paul\nM.Sc. Martin Auers
 wald\n\n\nAnja Hecht\nUrsula Ehrhorn\nJens Keisinger\n\n\nDr. Dominik Nisc
 hwitz\nDr. Eleonore Blaurock-Busch\nDr. Simone Koch\n\n\nKornelia Rebel\nS
 ören Schumann\nRené Gräber\n\n\nMark Weiland\nDr. Raimund von Helden\nP
 rof. Dr. Jörg C. Hoffmann\n\n\nDr. Tina Maria Ritter\nDr. Udo Böhm\nDr. 
 Barbara Miller\n\n\nSebastian Vigl\nDr. med. Luitgard Baumeister-Jesch\nDr
 . Armin Schwarzbach\n\n\nUschi Eichinger\nTom Fox\n\n\n\n\nDie Moderatorin
  des Mikronährstoff und Orthomolekularmedizin Online-Kongress\nDr. Sarah 
 Neidler:\n\n\n\n\n\n\n\n\n\n\nHi\, ich bin Sarah Neidler\, ich bin promovi
 erte Biologin und arbeite als freiberufliche Wissenschaftsjournalistin. Da
 bei liegt mein Hauptfokus auf Gesundheit und Ernährung.\nAls ich angefang
 en habe\, mich mit gesunder Ernährung auseinanderzusetzen\, ist mir aufge
 fallen\, dass eine kalorienarme Ernährung als gesund gilt. Hintergrund is
 t die steigende Übergewichtsrate\, die man versucht\, mithilfe von Ernäh
 rung in den Griff zu bekommen.\nDabei wird jedoch übersehen\, dass unser 
 Körper nährstoffreiche Lebensmittel benötigt\, die ausreichend Vitamine
 \, Mineralien und Spurenelemente liefern. Diese Mikronährstoffe sind esse
 nziell.\n\nDie folgen moderner Landwirtschaft\nGleichzeitig nimmt der Näh
 rstoffgehalt natürlicher Lebensmittel immer mehr ab\, da aufgrund moderne
 r landwirtschaftlicher Praktiken die Böden ausgelaugt werden. Innerhalb d
 er letzten 100 Jahre hat der Mineralstoffgehalt von Gemüse um ca. 80-90 %
  abgenommen.\nDies führt unweigerlich dazu\, dass viele Menschen nicht au
 sreichend mit essenziellen Nährstoffen versorgt sind. Dadurch kommt es zu
  den verschiedensten Beschwerden und Erkrankungen. Denn wenn nur ein einze
 lner Nährstoff fehlt\, kommt es zu gesundheitlichen Problemen.\n\n\n\n\n\
 n\n\nGeht man mit diesen Beschwerden zum Arzt\, stellt dieser jedoch nur s
 elten fest\, dass sie auf fehlende Vitamine und Mineralien zurückzuführe
 n sind. Ernährung ist nicht Teil des Medizinstudiums und sofern sich der 
 Arzt nicht privat oder im Rahmen einer Weiterbildung mit dem Thema beschä
 ftigt\, ist sein Wissen auf diesem Gebiet sehr begrenzt.\nAußerdem beruht
  unser Gesundheitssystem darauf\, Symptome zu behandeln. Nach der Ursache 
 wird nur selten gesucht. Dazu fehlen angeblich die Zeit und die Kapazität
 en. Jedoch ist es sehr einfach\, Nährstoffmängel festzustellen und zu be
 heben. Dadurch wird die Ursache der Beschwerden behoben und zugleich die a
 llgemeine Gesundheit verbessert. Leider fehlt in der Gesellschaft und im m
 edizinischen Bereich das Bewusstsein dafür\, wie wichtig essenzielle Mikr
 onährstoffe sind und welches Potenzial sie in der Therapie und Vorbeugung
  von Erkrankungen haben.\nDer Kongress soll das Bewusstsein für das Thema
  erhöhen. Deshalb habe ich Experten befragt\, wie es zu Nährstoffmängel
 n kommt\, welche Folgen sie haben und wie man sie beheben und vermeiden ka
 nn. Ziel ist\, mithilfe einer optimalen Nährstoffversorgung die allgemein
 e Gesundheit und Leistungsfähigkeit zu verbessern\, Krankheiten vorzubeug
 en und zu lindern.\n\n\n\n\n\n\n\n\n&gt\;&gt\; Zum  Online-Kongress (KLIC
 K)&lt\;&lt\;\n\nWährend der Kongresszeit  erhältst du täglich eine E-
 Mail mit dem Zugangslink zu den Interviews und Bonusinhalten.
ATTACH;FMTTYPE=image/jpeg:https://online-kongresse.info/wp-content/uploads
 /2021/03/Mikron_C3_A4hrstoff-_und_Orthomolekularmedizin_Online-Kongress.jp
 g
CATEGORIES:Ernährung,Gesundheit &amp; Fitness
LOCATION:https://akademie.medumio.de/mikronaehrstoffkongress/
END:VEVENT
BEGIN:VTIMEZONE
TZID:Europe/Berlin
X-LIC-LOCATION:Europe/Berlin
BEGIN:STANDARD
DTSTART:20231029T020000
TZOFFSETFROM:+0200
TZOFFSETTO:+0100
TZNAME:CET
END:STANDARD
END:VTIMEZONE
END:VCALENDAR