BEGIN:VCALENDAR
VERSION:2.0
PRODID:-//wp-events-plugin.com//7.2.3.1//EN
TZID:Europe/Berlin
X-WR-TIMEZONE:Europe/Berlin
BEGIN:VEVENT
UID:1284@online-kongresse.info
DTSTART;TZID=Europe/Berlin;VALUE=DATE:20240430
DTEND;TZID=Europe/Berlin;VALUE=DATE:20240507
DTSTAMP:20240421T091820Z
URL:https://online-kongresse.info/events/mama-als-schoepferin-der-fuelle-o
 nline-kongress/
SUMMARY:Mama als Schöpferin der Fülle Online-Kongress
DESCRIPTION:Mama als Schöpferin der Fülle Online-Kongress\n&gt\;&gt\; Zu
 r kostenlosen Anmeldung (KLICK)&lt\;&lt\;\nFür alle bewussten Mütter un
 d Frauen\, die mehr vom Leben wollen\, als sich zwischen der unterbezahlte
 n Tätigkeit und dem vollen Alltag zu zerreißen\, ist der Mama als Schöp
 ferin der Fülle Online-Kongress genau das Richtige für Dich\, wenn Du...
 \n\n 	Als Mama so sehr mit dem Familienalltag beschäftigt bist\, dass dei
 ne Wünsche und Bedürfnisse eindeutig zu kurz kommen.\n 	Noch keine Mutte
 r bist\, aber darüber nachdenkst\, wie du dein Leben gestalten könntest\
 , wenn du mal Kinder bekommen solltest.\n 	Deine Kinder schon groß geword
 en sind und du endlich den Raum hast\, um dein Leben noch mehr nach deinen
  Wünschen zu gestalten.\n 	Im Vergleich zu deinem Partner nur wenig oder 
 gar keine finanziellen Erträge in die Familie einbringst und das als Ungl
 eichgewicht empfindest.\n 	Insgeheim davon träumst\, deine eigene Chefin 
 zu sein\, aber dir noch nicht vorstellen kannst\, wie das mit Kindern und 
 Familie funktionieren könnte.\n 	Merkst\, dass du dein Potenzial nicht vo
 llkommen auslebst und dir noch die Vorbilder fehlen.\n\nDiese Themen des M
 ama als Schöpferin der Fülle Online-Kongress\nNeues Bewusstsein\nLass de
 n Mangel an Wertschätzung in der Vergangenheit hinter dir!\nFinanzielle F
 ülle\nEntdecke neue Möglichkeiten\, um noch mehr finanzielle Fülle in d
 ein Leben einzuladen.\nEine erfüllte Beziehung mit deinen Kindern - Und m
 it dir\nKreiere erfüllte Beziehungen mit deinen Kindern\, aber vor allem 
 auch mit dir selbst.\nInspirationen und Strategien für mehr Glück und Er
 füllung\nHole dir Erfahrungen und Inspirationen von anderen Müttern und 
 Frauen\, die erfolgreich UND glücklich sind.\nEntfalte deine Schöpferkra
 ft\nDeine unendliche Schöpferkraft ist bereits in dir.\nUmgang mit Heraus
 forderungen\nDu bist nicht allein! Lerne von anderen Müttern\, die bereit
 s neue Wege gegangen sind.\nDiese Experten sprechen beim Mama als Schöpfe
 rin der Fülle Online-Kongress\n\n\n\nDaniela Hutter\nGermaid Charlotte\nA
 licia Kusumitra\n\n\nKatrin Klug\nDr. Carmen Mayer\nAngela Tischbein-Madse
 n\n\n\nIlan Stephani\nNina Finken\nChristel Ströbel\n\n\nSalomea Klaus\nS
 abine Mänken\nChristine Husmann\n\n\nSvenja Löwe\nNicolette Muray\nSusan
 ne Weidenkaff\n\n\nTatjana Keil\nDoris Schlechtl\nAmelie Hüneke\n\n\nJana
 ina von Moos\nValerie Koné\nMartina &amp\; Thomas Weihrich\n\n\nCarolin H
 abekost\nJana Iger\nKerstin Tiedtke\n\n\nKristina Flick\n\n\n\n\n\nDer Ver
 anstalter:\nTatjana Keil\nSie ist ein Veränderungscoach und Mentorin für
  Frauen. Sie ist Mutter von drei Kindern.\n\nAls sie selbst Mutter wurde\,
  sah sie sich mit der Entscheidung konfrontiert\, ob sie sich eher für di
 e Zeit mit ihrer Familie entscheiden oder ihrem bisherigen Beruf nachgehen
  sollte. Keine der offensichtlichen Möglichkeiten erschien ihr zufriedens
 tellend. Sie sah sich um und konnte auch in ihrem Umfeld keine Lösung erk
 ennen\, bei der alle Seiten im Gleichgewicht wären. Also machte sie sich 
 auf die Suche\, nach Vorbildern und Informationen: Wie können denn Mütte
 r in der heutigen Zeit glücklich\, erfüllt und finanziell erfolgreich se
 in?\n\nAus all ihrem Wissen und all ihren Erfahrungen möchte sie heute di
 ch auf deinem Weg unterstützen und hat deshalb diesen Kongress ins Leben 
 gerufen.\n\n&gt\;&gt\; Zum Online-Kongress (KLICK)&lt\;&lt\;\n
ATTACH;FMTTYPE=image/jpeg:https://online-kongresse.info/wp-content/uploads
 /2024/04/Mama-als-Schoepferin-der-Fuelle-Online-Kongress-header.webp
CATEGORIES:Familie &amp; Freunde,Persönlichkeitsentwicklung
LOCATION:https://www.schoepferinderfuelle.de/#aff=onlinekongresse
END:VEVENT
BEGIN:VTIMEZONE
TZID:Europe/Berlin
X-LIC-LOCATION:Europe/Berlin
BEGIN:DAYLIGHT
DTSTART:20240331T030000
TZOFFSETFROM:+0100
TZOFFSETTO:+0200
TZNAME:CEST
END:DAYLIGHT
END:VTIMEZONE
END:VCALENDAR