BEGIN:VCALENDAR
VERSION:2.0
PRODID:-//wp-events-plugin.com//7.2.3.1//EN
TZID:Europe/Berlin
X-WR-TIMEZONE:Europe/Berlin
BEGIN:VEVENT
UID:227@online-kongresse.info
DTSTART;TZID=Europe/Berlin:20220730T190000
DTEND;TZID=Europe/Berlin:20220730T230000
DTSTAMP:20220606T071056Z
URL:https://online-kongresse.info/events/gedankentanken-rednernacht-koeln/
SUMMARY:Greator Festival Köln
DESCRIPTION:Greator Festival Köln\n&gt\;&gt\; Zum Greator Festival Köln &
 lt\;&lt\;\nDas Greator Festival Köln ist ein Abend für Dein Leben.\n\nD
 ie Qualität deiner Gedanken bestimmt die Qualität deines Lebens. Zum Gl
 ück lassen sich gute Gedanken tanken: bei Experten\, die wirklich etwas z
 u sagen haben. Inspirierend. Faszinierend. Unterhaltsam. Auf den Punkt. F
 ür deine Selbstverwirklichung.\nWas Dich beim Greator Festival Köln erwa
 rtet:\nGigantisch. Ergreifend. Bahnbrechend. \nTanke motivierende Impulse
  für dein Leben. Lerne\, was du schaffen kannst und wirst – mit Herz un
 d Hirn. Staunend\, lachend\, leicht. Und das alles live. An einem Samstaga
 bend. In der größten Veranstaltungshalle Deutschlands.\nDiese Speaker si
 nd dabei:\n\n\n\nGary Vaynerchuk\nLaura Malina Seiler\nByron Katie\n\n\nCh
 ristian Bischoff\nAlexander Hartmann\nTobias Beck\n\n\nDr. Mareike Awe\nLe
 ander Govinda Greitmann\nStefanie Stahl\n\n\nCulcha Candela\nMelanie Chomi
 ak-Janus\nJohn Strelecky\n\n\nMarkus Hofmann\nProf. Dr. Lothar Seiwert\nBo
 do Schäfer\n\n\nBiyon Kattilathu\nDipl. Psych. Rolf Schmiel\nDieter Lange
 \n\n\nMatthias Aumann\nWladislaw Jachtchenko\nJörg Löhr\n\n\nDr. James D
 oty\nAlexander Christiani\nGreta Silver\n\n\nMarie Diamond\nDr. Frederik H
 ümmeke\nMarisa Peer\n\n\nReinhold Messner\nChristina Hommelsheim\nTolga 
 Önal\n\n\nHermann Scherer\nWalter Hommelsheim\nBahar Yilmaz\n\n\nRené Bo
 rbonus\nAllan &amp\; Barbara Pease\nDan Millman\n\n\nDarius Kamadeva\nCél
 ine Flores Willers\nDavid Allen\n\n\nMichael Ehlers\nProf. Dr. Jack Nasher
 \nMiriam Höller\n\n\nJingsi Lichtenberg\nDr. Stefan Frädrich\nChris Sure
 l\n\n\nAlexander Müller\nSlatco Sterzenbach\nJens Corssen\n\n\nMelanie Si
 efert\nDenys Scharnweber\nFrank Asmus\n\n\nMarkus Brand\nChristoph Schreib
 er\nSteven Kotler\n\n\nYvonne de Bark\nPhilip Semmelroth\nKen Honda\n\n\nR
 uediger Dahlke\nAnnabell Whitney\nCarolin Goßen\n\n\nYvonne Schönau\nJoc
 hen Schweizer\nChris Bloom\n\n\nFrancisco Medina\nOliver Geisselhart\nTanj
 a Peters\n\n\nMartin Limbeck\nFelix Thönnessen\nSabri Eryigit\n\n\nFabian
  Friedrichs\nDr. Srikumar Rao\nAndreas Buhr\n\n\nSteffen Kirchner\nChristi
 ane Stenger\nThilo Baum\n\n\nGabriel Schandl\nChristian Gaertner\nAkay\n\n
 \nMichi Schreiber\nElisabeth Motsch\nBoris Grundl\n\n\nMareike Spaleck\nLo
 renzo Scibetta\nElmar Rassi\n\n\nJennifer Czeczor\nDr. Renée Moore\nOnkel
  Banjou\n\n\nStefano Zarella\nStephan Heinrich\nJackie Freitag\n\n\nSarah 
 Anna Lyv\nAndrej Mangold\n\n\n\n\nTickets für das Greator Festival Köln
 \nDie vollen 2 Tage:\n\n&gt\;&gt\; Zu den Tickets\n\nRednernacht 30. Juli 
 19 - 23 Uhr:\n\n&gt\;&gt\;Zu den Tickets\n\nBis einschließlich 25 Jahren 
 sparst du zusätzlich 25% mit dem Code "Greator25" auf deine Ticketbestell
 ung.
ATTACH;FMTTYPE=image/jpeg:https://online-kongresse.info/wp-content/uploads
 /2019/08/Greator-Festival-Koeln-header.jpg
CATEGORIES:Beruf &amp; Erfolg,Bildung &amp; Lernen,Finanzen &amp;
 Materielles,Gesundheit &amp;
 Fitness,Persönlichkeitsentwicklung,Spiritualität &amp; Glaube
LOCATION:Lanxess Arena\, Willy-Brandt-Platz 3\, Köln\, 50679\, Deutschland
X-APPLE-STRUCTURED-LOCATION;VALUE=URI;X-ADDRESS=Willy-Brandt-Platz 3\, Köl
 n\, 50679\, Deutschland;X-APPLE-RADIUS=100;X-TITLE=Lanxess Arena:geo:0,0
END:VEVENT
BEGIN:VTIMEZONE
TZID:Europe/Berlin
X-LIC-LOCATION:Europe/Berlin
BEGIN:DAYLIGHT
DTSTART:20220327T030000
TZOFFSETFROM:+0100
TZOFFSETTO:+0200
TZNAME:CEST
END:DAYLIGHT
END:VTIMEZONE
END:VCALENDAR