BEGIN:VCALENDAR
VERSION:2.0
PRODID:-//wp-events-plugin.com//7.2.3.1//EN
TZID:Europe/Berlin
X-WR-TIMEZONE:Europe/Berlin
BEGIN:VEVENT
UID:1358@online-kongresse.info
DTSTART;TZID=Europe/Berlin;VALUE=DATE:20241119
DTEND;TZID=Europe/Berlin;VALUE=DATE:20241129
DTSTAMP:20241108T084947Z
URL:https://online-kongresse.info/events/esosonderdezernat-online-kongress
 /
SUMMARY:Esosonderdezernat Online-Kongress
DESCRIPTION:Esosonderdezernat Online-Kongress\n&gt\;&gt\; Zur kostenlosen 
 Anmeldung (KLICK)&lt\;&lt\;\nDer Esosonderdezernat Online-Kongress ist ge
 nau das Richtige für Dich\, wenn Du spirituellen Humbug durchschauen möc
 htest\, um ein souveränes Leben zu starten.\n\nDu hast Lust\, die volle K
 ontrolle über dein Leben zu übernehmen und selbstbestimmt deinen Weg zu 
 gehen? Hier erfährst du unter anderem...\n\n 	wie du Manipulationstechnik
 en in der New-Age-Szene hinterfragen und durchschauen kannst\,\n 	welche C
 oaches und Gurus dir wirklich weiterhelfen und welche dich nur „bei der 
 Stange halten“ wollen\,\n 	was du tun kannst\, um dich von esoterischen 
 Konditionierungen zu lösen und deinen eigenen\, authentischen spirituelle
 n Weg zu finden.\n\nDie Leitfragen beim Esosonderdezernat Online-Kongress\
 n\n 	Was sind die grössten Hürden auf dem spirituellen Weg.\n 	Wie kann 
 man sich ein selbstbestimmtes Leben ohne Anbindung an Programmierungen ers
 chaffen.\n 	Was ist der Weg des Herzens und wie lebt man ihn mit Leichtigk
 eit.\n\nDiese Experten sprechen beim Esosonderdezernat Online-Kongress\n\n
 \n\nTira\nTanja Mazurek\nAlicia Kusumitra\n\n\nJana Iger\nPhilip Kunisch\n
 Equiano Intensio\n\n\nMatrixxer\nFelicia Romero\nChrista Jasinski\n\n\nFra
 nk Jacob\nLionel Schibli\nPascal Voggenhuber\n\n\nHarald Roos\nChandrika L
 ove\nRenata Mierzejewska\n\n\nSandra Weber\nFabian Strumpf\nNorbert Braken
 wagen\n\n\nGor Rassadin\nYogi Vidyananda\nSonja Ariel von Staden\n\n\nSolu
 ru Antari\nDaniela AnAibja\nWolf Sugata Schneider\n\n\nGregor Dorsch\nLudm
 illa &amp\; Roland\nGünter Kerschbaummayr\n\n\n\nKirsten Dähmlow\nLucia 
 von Fürstenberg-Maoz\n\n\n\nDie Veranstalter des Esosonderdezernat Online
 -Kongress:\n\n\n\nChandrika Love\nChandrika ist eine Indigo-Geborene\, die
  die Erde als einen wunderschönen\, magischen Ort empfindet und daher den
  Weg von Team Mutter Erde gewählt hat.\n\nSchon immer war es ihr Anliegen
 \, einen tieferen Sinn oder ein höheres Ziel im menschlichen Dasein zu fi
 nden. Diese Suche hat sie zu Yoga\, Rebirthing\, ganzheitlicher Gesundheit
 sarbeit und Somatic Healing geführt.\n\nIhre größte Motivation ist eine
  Vision: ein ursprüngliches Zusammenleben auf PachaMama\, in dem alle Wes
 en und Lebensformen in friedlicher Koexistenz leben.\n\nChandrika sieht si
 ch als Brückenbauerin\, und genau dieser Kongress soll dazu beitragen\, d
 en Weg vom Kopf ins Herz zu finden.\n\nEs ist ihr eine Freude und Ehre\, G
 astgeberin für ein Zusammenkommen in Wahrheit\, Liebe\, Freiheit und Frie
 den zu sein.\n\n\n\n\n\n&gt\;&gt\; Zum Kongress (KLICK)&lt\;&lt\;\n
ATTACH;FMTTYPE=image/jpeg:https://online-kongresse.info/wp-content/uploads
 /2024/11/Esosonderdezernat-online-kongress-header.webp
CATEGORIES:Spiritualität &amp; Glaube
LOCATION:https://www.digistore24.com/content/566917/49312/onlinekongresse/S
 eite
END:VEVENT
BEGIN:VTIMEZONE
TZID:Europe/Berlin
X-LIC-LOCATION:Europe/Berlin
BEGIN:STANDARD
DTSTART:20241027T020000
TZOFFSETFROM:+0200
TZOFFSETTO:+0100
TZNAME:CET
END:STANDARD
END:VTIMEZONE
END:VCALENDAR